BEGIN:VCALENDAR
VERSION:2.0
PRODID:-//Tukios.com/
BEGIN:VEVENT
UID:cd9858cb-b406-4d81-bf11-e1a2bb211022@www.cromwellfuneralhome.net
DTSTAMP:20260424T183224Z
DTSTART:20260425T160000Z
DTEND:20260425T170000Z
SUMMARY:Graveside Service
DESCRIPTION:
URL:https://www.cromwellfuneralhome.net/obituaries/christopher-owens
LOCATION:Second Baptist Cemetery 3270 U.S. 165  Wilmot AR 71676
GEO:33.0344813;-91.5954111
END:VEVENT
END:VCALENDAR